BEGIN:VCALENDAR
VERSION:2.0
PRODID:-//Iberpapel - ECPv6.15.20//NONSGML v1.0//EN
CALSCALE:GREGORIAN
METHOD:PUBLISH
X-WR-CALNAME:Iberpapel
X-ORIGINAL-URL:https://www.iberpapel.es/en
X-WR-CALDESC:Events for Iberpapel
REFRESH-INTERVAL;VALUE=DURATION:PT1H
X-Robots-Tag:noindex
X-PUBLISHED-TTL:PT1H
BEGIN:VTIMEZONE
TZID:Europe/Madrid
BEGIN:DAYLIGHT
TZOFFSETFROM:+0100
TZOFFSETTO:+0200
TZNAME:CEST
DTSTART:20140330T010000
END:DAYLIGHT
BEGIN:STANDARD
TZOFFSETFROM:+0200
TZOFFSETTO:+0100
TZNAME:CET
DTSTART:20141026T010000
END:STANDARD
BEGIN:DAYLIGHT
TZOFFSETFROM:+0100
TZOFFSETTO:+0200
TZNAME:CEST
DTSTART:20150329T010000
END:DAYLIGHT
BEGIN:STANDARD
TZOFFSETFROM:+0200
TZOFFSETTO:+0100
TZNAME:CET
DTSTART:20151025T010000
END:STANDARD
BEGIN:DAYLIGHT
TZOFFSETFROM:+0100
TZOFFSETTO:+0200
TZNAME:CEST
DTSTART:20160327T010000
END:DAYLIGHT
BEGIN:STANDARD
TZOFFSETFROM:+0200
TZOFFSETTO:+0100
TZNAME:CET
DTSTART:20161030T010000
END:STANDARD
BEGIN:DAYLIGHT
TZOFFSETFROM:+0100
TZOFFSETTO:+0200
TZNAME:CEST
DTSTART:20170326T010000
END:DAYLIGHT
BEGIN:STANDARD
TZOFFSETFROM:+0200
TZOFFSETTO:+0100
TZNAME:CET
DTSTART:20171029T010000
END:STANDARD
BEGIN:DAYLIGHT
TZOFFSETFROM:+0100
TZOFFSETTO:+0200
TZNAME:CEST
DTSTART:20180325T010000
END:DAYLIGHT
BEGIN:STANDARD
TZOFFSETFROM:+0200
TZOFFSETTO:+0100
TZNAME:CET
DTSTART:20181028T010000
END:STANDARD
END:VTIMEZONE
BEGIN:VEVENT
DTSTART;VALUE=DATE:20170727
DTEND;VALUE=DATE:20170728
DTSTAMP:20260424T091441
CREATED:20170727T135354Z
LAST-MODIFIED:20210621T130947Z
UID:17643-1501113600-1501199999@www.iberpapel.es
SUMMARY:Results 1st half 2017
DESCRIPTION:Results 1st half 2017
URL:https://www.iberpapel.es/en/investors-agenda/results-1st-half-2017/
CATEGORIES:Events
END:VEVENT
BEGIN:VEVENT
DTSTART;VALUE=DATE:20170524
DTEND;VALUE=DATE:20170525
DTSTAMP:20260424T091441
CREATED:20170524T135324Z
LAST-MODIFIED:20210621T131003Z
UID:17641-1495584000-1495670399@www.iberpapel.es
SUMMARY:General Meeting of Shareholders 2017
DESCRIPTION:General Meeting of Shareholders 2017
URL:https://www.iberpapel.es/en/investors-agenda/general-meeting-of-shareholders-2017/
CATEGORIES:Events
END:VEVENT
BEGIN:VEVENT
DTSTART;VALUE=DATE:20170425
DTEND;VALUE=DATE:20170426
DTSTAMP:20260424T091441
CREATED:20170425T135250Z
LAST-MODIFIED:20210621T131027Z
UID:17639-1493078400-1493164799@www.iberpapel.es
SUMMARY:Results 1st Quarter 2017
DESCRIPTION:Results 1st Quarter 2017
URL:https://www.iberpapel.es/en/investors-agenda/results-1st-quarter-2017/
CATEGORIES:Events
END:VEVENT
BEGIN:VEVENT
DTSTART;VALUE=DATE:20170228
DTEND;VALUE=DATE:20170301
DTSTAMP:20260424T091441
CREATED:20170228T145140Z
LAST-MODIFIED:20210621T131047Z
UID:17637-1488240000-1488326399@www.iberpapel.es
SUMMARY:Results 2016 | Interim Dividend
DESCRIPTION:Results 2016 | Interim Dividend
URL:https://www.iberpapel.es/en/investors-agenda/results-2016-interim-dividend/
CATEGORIES:Events
END:VEVENT
BEGIN:VEVENT
DTSTART;VALUE=DATE:20161028
DTEND;VALUE=DATE:20161029
DTSTAMP:20260424T091441
CREATED:20161028T140019Z
LAST-MODIFIED:20210621T131112Z
UID:17655-1477612800-1477699199@www.iberpapel.es
SUMMARY:Results 3rd Quarter 2016
DESCRIPTION:Results 3rd Quarter 2016
URL:https://www.iberpapel.es/en/investors-agenda/results-3rd-quarter-2016/
CATEGORIES:Events
END:VEVENT
BEGIN:VEVENT
DTSTART;VALUE=DATE:20160729
DTEND;VALUE=DATE:20160730
DTSTAMP:20260424T091441
CREATED:20180729T135955Z
LAST-MODIFIED:20210621T131133Z
UID:17653-1469750400-1469836799@www.iberpapel.es
SUMMARY:Results 1st half 2016
DESCRIPTION:Results 1st half 2016
URL:https://www.iberpapel.es/en/investors-agenda/results-1st-half-2016/
CATEGORIES:Events
END:VEVENT
BEGIN:VEVENT
DTSTART;VALUE=DATE:20160422
DTEND;VALUE=DATE:20160423
DTSTAMP:20260424T091441
CREATED:20160422T135931Z
LAST-MODIFIED:20210621T131153Z
UID:17651-1461283200-1461369599@www.iberpapel.es
SUMMARY:Results 1st Quarter 2016
DESCRIPTION:Results 1st Quarter 2016
URL:https://www.iberpapel.es/en/investors-agenda/results-1st-quarter-2016/
CATEGORIES:Events
END:VEVENT
BEGIN:VEVENT
DTSTART;VALUE=DATE:20160420
DTEND;VALUE=DATE:20160421
DTSTAMP:20260424T091441
CREATED:20160420T135907Z
LAST-MODIFIED:20210621T131213Z
UID:17649-1461110400-1461196799@www.iberpapel.es
SUMMARY:Shareholders and Dividends
DESCRIPTION:Shareholders and Dividends
URL:https://www.iberpapel.es/en/investors-agenda/shareholders-and-dividends/
CATEGORIES:Events
END:VEVENT
BEGIN:VEVENT
DTSTART;VALUE=DATE:20160225
DTEND;VALUE=DATE:20160226
DTSTAMP:20260424T091441
CREATED:20160225T145850Z
LAST-MODIFIED:20210621T131237Z
UID:17647-1456358400-1456444799@www.iberpapel.es
SUMMARY:Dividends and Presentation. Results 2015
DESCRIPTION:Dividends and Presentation. Results 2015
URL:https://www.iberpapel.es/en/investors-agenda/dividends-and-presentation-results-2015/
CATEGORIES:Events
END:VEVENT
BEGIN:VEVENT
DTSTART;VALUE=DATE:20151030
DTEND;VALUE=DATE:20151031
DTSTAMP:20260424T091441
CREATED:20151030T150249Z
LAST-MODIFIED:20210621T131259Z
UID:17667-1446163200-1446249599@www.iberpapel.es
SUMMARY:Results 3rd Quarter 2015
DESCRIPTION:Results 3rd Quarter 2015
URL:https://www.iberpapel.es/en/investors-agenda/results-3rd-quarter-2015/
CATEGORIES:Events
END:VEVENT
BEGIN:VEVENT
DTSTART;VALUE=DATE:20150729
DTEND;VALUE=DATE:20150730
DTSTAMP:20260424T091441
CREATED:20150729T140223Z
LAST-MODIFIED:20210621T131317Z
UID:17665-1438128000-1438214399@www.iberpapel.es
SUMMARY:Results 2nd Half 2015
DESCRIPTION:Results 2nd Half 2015
URL:https://www.iberpapel.es/en/investors-agenda/results-2nd-half-2015/
CATEGORIES:Events
END:VEVENT
BEGIN:VEVENT
DTSTART;VALUE=DATE:20150710
DTEND;VALUE=DATE:20150711
DTSTAMP:20260424T091441
CREATED:20150710T140202Z
LAST-MODIFIED:20210621T131338Z
UID:17663-1436486400-1436572799@www.iberpapel.es
SUMMARY:Complementary and end dividend of results for 2014
DESCRIPTION:Complementary and end dividend of results for 2014
URL:https://www.iberpapel.es/en/investors-agenda/complementary-and-end-dividend-of-results-for-2014/
CATEGORIES:Events
END:VEVENT
BEGIN:VEVENT
DTSTART;VALUE=DATE:20150625
DTEND;VALUE=DATE:20150626
DTSTAMP:20260424T091441
CREATED:20150625T140136Z
LAST-MODIFIED:20210621T131358Z
UID:17661-1435190400-1435276799@www.iberpapel.es
SUMMARY:General Shareholders’ Meeting
DESCRIPTION:General Shareholders’ Meeting
URL:https://www.iberpapel.es/en/investors-agenda/general-shareholders-meeting-2/
CATEGORIES:Events
END:VEVENT
BEGIN:VEVENT
DTSTART;VALUE=DATE:20150424
DTEND;VALUE=DATE:20150425
DTSTAMP:20260424T091441
CREATED:20150424T140111Z
LAST-MODIFIED:20210621T131418Z
UID:17659-1429833600-1429919999@www.iberpapel.es
SUMMARY:Results 1st Quarter 2015
DESCRIPTION:Results 1st Quarter 2015
URL:https://www.iberpapel.es/en/investors-agenda/results-1st-quarter-2015/
CATEGORIES:Events
END:VEVENT
BEGIN:VEVENT
DTSTART;VALUE=DATE:20150310
DTEND;VALUE=DATE:20150311
DTSTAMP:20260424T091441
CREATED:20150310T150051Z
LAST-MODIFIED:20210621T130612Z
UID:17657-1425945600-1426031999@www.iberpapel.es
SUMMARY:Interim dividend of results for 2014
DESCRIPTION:Interim dividend of results for 2014
URL:https://www.iberpapel.es/en/investors-agenda/interim-dividend-of-results-for-2014/
CATEGORIES:Events
END:VEVENT
END:VCALENDAR